BEGIN:VCALENDAR
VERSION:2.0
PRODID:-//wp-events-plugin.com//7.2.3.1//EN
TZID:Europe/Berlin
X-WR-TIMEZONE:Europe/Berlin
BEGIN:VEVENT
UID:10-2452@frauenbund-pleiskirchen.de
DTSTART;TZID=Europe/Berlin:20190127T000000
DTEND;TZID=Europe/Berlin:20190127T000000
DTSTAMP:20190102T081957Z
URL:https://frauenbund-pleiskirchen.de/termine/kinderkleider-basar-der-mut
 ter-kind-gruppe/
SUMMARY:Kinderkleider Basar der Mutter-Kind-Gruppe
DESCRIPTION:
CATEGORIES:Frauenbund Pleiskirchen
END:VEVENT
BEGIN:VTIMEZONE
TZID:Europe/Berlin
X-LIC-LOCATION:Europe/Berlin
BEGIN:STANDARD
DTSTART:20181028T020000
TZOFFSETFROM:+0200
TZOFFSETTO:+0100
TZNAME:CET
END:STANDARD
END:VTIMEZONE
END:VCALENDAR