BEGIN:VCALENDAR
VERSION:2.0
PRODID:-//wp-events-plugin.com//7.2.3.1//EN
TZID:Europe/Berlin
X-WR-TIMEZONE:Europe/Berlin
BEGIN:VEVENT
UID:10-3952@frauenbund-pleiskirchen.de
DTSTART;TZID=Europe/Berlin:20241025T163000
DTEND;TZID=Europe/Berlin:20241025T183000
DTSTAMP:20241022T102300Z
URL:https://frauenbund-pleiskirchen.de/termine/kinderkino-im-pfarrheim-mam
 a-muh-und-die-grosse-weite-welt/
SUMMARY:Kinderkino im Pfarrheim: Mama Muh und die große weite Welt
DESCRIPTION:Im Pfarrheim Pleiskirchen ab 16.30 Uhr\nFür Kinder ab 4 Jahre\
 nUnkostenbeitrag für Mitglieder 1.-€\, Nichtmitglieder 2.-€\nWir freu
 en uns auf euer Kommen
CATEGORIES:Frauenbund Pleiskirchen
LOCATION:\, \, 
GEO:48.30780050000001;12.596254300000055
X-APPLE-STRUCTURED-LOCATION;VALUE=URI;X-ADDRESS=\, ;X-APPLE-RADIUS=100;X-TI
 TLE=:geo:48.30780050000001,12.596254300000055
END:VEVENT
BEGIN:VTIMEZONE
TZID:Europe/Berlin
X-LIC-LOCATION:Europe/Berlin
BEGIN:DAYLIGHT
DTSTART:20240331T030000
TZOFFSETFROM:+0100
TZOFFSETTO:+0200
TZNAME:CEST
END:DAYLIGHT
END:VTIMEZONE
END:VCALENDAR