BEGIN:VCALENDAR
VERSION:2.0
PRODID:-//wp-events-plugin.com//7.2.3.1//EN
TZID:Europe/Berlin
X-WR-TIMEZONE:Europe/Berlin
BEGIN:VEVENT
UID:10-3692@frauenbund-pleiskirchen.de
DTSTART;TZID=Europe/Berlin:20231222T163000
DTEND;TZID=Europe/Berlin:20231222T183000
DTSTAMP:20231211T165113Z
URL:https://frauenbund-pleiskirchen.de/termine/kinderkino-am-freitag-22-12
 -2023/
SUMMARY:Kinderkino am Freitag\, 22.12.2023
DESCRIPTION:Am 22.12.23 ist wieder Kinderkino im Pfarrheim Pleiskirchen.\n\
 n&nbsp\;\n\nAb 16.30 Uhr wird der Film Petersen und Findus hergezeigt.\n\n
 &nbsp\;\n\nFür Kinder ab 4 Jahren.\n\n&nbsp\;\n\nUnkostenbeitrag: Mitglie
 der 1.-€\, Nichtmitglieder 2.-€\n\n&nbsp\;\n\nGerne weitersagen.
CATEGORIES:Frauenbund Pleiskirchen
LOCATION:\, \, 
GEO:48.30780050000001;12.596254300000055
X-APPLE-STRUCTURED-LOCATION;VALUE=URI;X-ADDRESS=\, ;X-APPLE-RADIUS=100;X-TI
 TLE=:geo:48.30780050000001,12.596254300000055
END:VEVENT
BEGIN:VTIMEZONE
TZID:Europe/Berlin
X-LIC-LOCATION:Europe/Berlin
BEGIN:STANDARD
DTSTART:20231029T020000
TZOFFSETFROM:+0200
TZOFFSETTO:+0100
TZNAME:CET
END:STANDARD
END:VTIMEZONE
END:VCALENDAR