BEGIN:VCALENDAR
VERSION:2.0
PRODID:-//wp-events-plugin.com//7.2.3.1//EN
TZID:Europe/Berlin
X-WR-TIMEZONE:Europe/Berlin
BEGIN:VEVENT
UID:10-3559@frauenbund-pleiskirchen.de
DTSTART;TZID=Europe/Berlin:20230419T193000
DTEND;TZID=Europe/Berlin:20230419T230000
DTSTAMP:20230411T100450Z
URL:https://frauenbund-pleiskirchen.de/termine/jahreshauptversammlung-am-m
 ittwoch-19-april-2023/
SUMMARY:Jahreshauptversammlung am Mittwoch\, 19. April 2023
DESCRIPTION:Herzliche Einladung zur Jahreshauptversammlung der Mitglieder b
 eim Huberwirt\, Pleiskirchen\nBeginn ist um 19.30 Uhr
CATEGORIES:Frauenbund Pleiskirchen
LOCATION:\, \, 
GEO:48.3070141;12.5965766
X-APPLE-STRUCTURED-LOCATION;VALUE=URI;X-ADDRESS=\, ;X-APPLE-RADIUS=100;X-TI
 TLE=:geo:48.3070141,12.5965766
END:VEVENT
BEGIN:VTIMEZONE
TZID:Europe/Berlin
X-LIC-LOCATION:Europe/Berlin
BEGIN:DAYLIGHT
DTSTART:20230326T030000
TZOFFSETFROM:+0100
TZOFFSETTO:+0200
TZNAME:CEST
END:DAYLIGHT
END:VTIMEZONE
END:VCALENDAR