BEGIN:VCALENDAR
VERSION:2.0
PRODID:-//wp-events-plugin.com//7.2.3.1//EN
TZID:Europe/Berlin
X-WR-TIMEZONE:Europe/Berlin
BEGIN:VEVENT
UID:10-3405@frauenbund-pleiskirchen.de
DTSTART;TZID=Europe/Berlin:20221112T140000
DTEND;TZID=Europe/Berlin:20221112T163000
DTSTAMP:20221106T205659Z
URL:https://frauenbund-pleiskirchen.de/termine/handlettering-fuer-die-weih
 nachtszeit/
SUMMARY:Handlettering für die Weihnachtszeit
DESCRIPTION:Wir treffen uns im Pfarrheim Pleiskirchen und gestalten unsere 
 persönlichen Weihnachtskarten.\nWenn möglich\, bitte Fineliner\, Filzsti
 ft\, Bleistift und Radiergummi mitbringen.\n\nAnmeldung bitte unter 08635/
 1387\nUnkostenbeitrag für Mitglieder 3 €\, Nichtmitglieder 5 €
CATEGORIES:Frauenbund Pleiskirchen
END:VEVENT
BEGIN:VTIMEZONE
TZID:Europe/Berlin
X-LIC-LOCATION:Europe/Berlin
BEGIN:STANDARD
DTSTART:20221030T020000
TZOFFSETFROM:+0200
TZOFFSETTO:+0100
TZNAME:CET
END:STANDARD
END:VTIMEZONE
END:VCALENDAR