BEGIN:VCALENDAR
VERSION:2.0
PRODID:-//wp-events-plugin.com//7.2.3.1//EN
TZID:Europe/Berlin
X-WR-TIMEZONE:Europe/Berlin
BEGIN:VEVENT
UID:10-673@frauenbund-pleiskirchen.de
DTSTART;TZID=Europe/Berlin:20161016T133000
DTEND;TZID=Europe/Berlin:20161016T133000
DTSTAMP:20161019T174747Z
URL:https://frauenbund-pleiskirchen.de/termine/gestern/
SUMMARY:Gestern
DESCRIPTION:Rosenkranz in der Pfarrkirche um 13:30 Uhr\n\nanschliessend Vor
 trag im Pfarrheim "Die Frau im Wandel der Zeit"
LOCATION:\, \, 
X-APPLE-STRUCTURED-LOCATION;VALUE=URI;X-ADDRESS=\, ;X-APPLE-RADIUS=100;X-TI
 TLE=:geo:0,0
END:VEVENT
BEGIN:VTIMEZONE
TZID:Europe/Berlin
X-LIC-LOCATION:Europe/Berlin
BEGIN:DAYLIGHT
DTSTART:20160327T030000
TZOFFSETFROM:+0100
TZOFFSETTO:+0200
TZNAME:CEST
END:DAYLIGHT
END:VTIMEZONE
END:VCALENDAR