BEGIN:VCALENDAR
VERSION:2.0
PRODID:-//wp-events-plugin.com//7.2.3.1//EN
TZID:Europe/Berlin
X-WR-TIMEZONE:Europe/Berlin
BEGIN:VEVENT
UID:10-4100@frauenbund-pleiskirchen.de
DTSTART;TZID=Europe/Berlin:20250227T200000
DTEND;TZID=Europe/Berlin:20250227T234500
DTSTAMP:20250209T173654Z
URL:https://frauenbund-pleiskirchen.de/termine/faschingsball-am-unsinnigen
 -donnerstag-den-27-02-2025-um-20-uhr-im-gasthaus-muench/
SUMMARY:Faschingsball am Unsinnigen Donnerstag\, den 27.02.2025 um 20 Uhr i
 m Gasthaus Münch
DESCRIPTION:\n\nWir laden euch herzlich zum Frauenbundfasching am Unsinnige
 n Donnerstag ein.\n\nWieder ist ein vielseitiges Rahmenprogramm geboten.\n
 \nGroße Tombola\, Auftritte von den Pleiskirchener Tanzgruppen Red Lips u
 nd Rockin Rabbits.\n\nMusikalisch werden wir wie bereits im letzten Jahr v
 om großartigen DJ Jonas unterhalten.\n\nFür unsere Tombola bitten wir um
  Sachspenden. Wer uns dazu unterstützen mag\, der kann seine Sachen bis M
 ittwoch\, 26.02.2025 im Pfarrbüro abgeben.\n\nWir sagen schon mal vielen 
 vielen Dank und\n\nfreuen uns darauf\, euch bei unserem Ball begrüßen zu
  dürfen.
CATEGORIES:Frauenbund Pleiskirchen
LOCATION:\, \, 
GEO:48.306629;12.595771
X-APPLE-STRUCTURED-LOCATION;VALUE=URI;X-ADDRESS=\, ;X-APPLE-RADIUS=100;X-TI
 TLE=:geo:48.306629,12.595771
END:VEVENT
BEGIN:VTIMEZONE
TZID:Europe/Berlin
X-LIC-LOCATION:Europe/Berlin
BEGIN:STANDARD
DTSTART:20241027T020000
TZOFFSETFROM:+0200
TZOFFSETTO:+0100
TZNAME:CET
END:STANDARD
END:VTIMEZONE
END:VCALENDAR