BEGIN:VCALENDAR
VERSION:2.0
PRODID:-//wp-events-plugin.com//7.2.3.1//EN
TZID:Europe/Berlin
X-WR-TIMEZONE:Europe/Berlin
BEGIN:VEVENT
UID:10-3514@frauenbund-pleiskirchen.de
DTSTART;TZID=Europe/Berlin:20230216T190000
DTEND;TZID=Europe/Berlin:20230216T235900
DTSTAMP:20230208T082315Z
URL:https://frauenbund-pleiskirchen.de/termine/faschingsball-am-unsinnigen
 -donnerstag-16-02-2023/
SUMMARY:Faschingsball am unsinnigen Donnerstag\, 16.02.2023
DESCRIPTION:\n\nUnser maskierter Faschingsball findet heuer im Saal des Gas
 thauses Münch statt. Einlass ist um 19 Uhr.\n
CATEGORIES:Frauenbund Pleiskirchen
LOCATION:\, \, 
GEO:48.306629;12.595771
X-APPLE-STRUCTURED-LOCATION;VALUE=URI;X-ADDRESS=\, ;X-APPLE-RADIUS=100;X-TI
 TLE=:geo:48.306629,12.595771
END:VEVENT
BEGIN:VTIMEZONE
TZID:Europe/Berlin
X-LIC-LOCATION:Europe/Berlin
BEGIN:STANDARD
DTSTART:20221030T020000
TZOFFSETFROM:+0200
TZOFFSETTO:+0100
TZNAME:CET
END:STANDARD
END:VTIMEZONE
END:VCALENDAR