BEGIN:VCALENDAR
VERSION:2.0
PRODID:-//wp-events-plugin.com//7.2.3.1//EN
TZID:Europe/Berlin
X-WR-TIMEZONE:Europe/Berlin
BEGIN:VEVENT
UID:10-676@frauenbund-pleiskirchen.de
DTSTART;TZID=Europe/Berlin:20170422T200000
DTEND;TZID=Europe/Berlin:20170422T233000
DTSTAMP:20161026T064957Z
URL:https://frauenbund-pleiskirchen.de/termine/50-jahre-frauenbund-pleiski
 rchen-morgen/
SUMMARY:"50 Jahre Frauenbund Pleiskirchen" - "Morgen"
DESCRIPTION:"Tanz in den Frühling" beim Huberwirt\n\nDer Kartenvorverkauf 
 beginnt ab März 2017.
CATEGORIES:Frauenbund Pleiskirchen
LOCATION:\, \, 
X-APPLE-STRUCTURED-LOCATION;VALUE=URI;X-ADDRESS=\, ;X-APPLE-RADIUS=100;X-TI
 TLE=:geo:0,0
END:VEVENT
BEGIN:VTIMEZONE
TZID:Europe/Berlin
X-LIC-LOCATION:Europe/Berlin
BEGIN:DAYLIGHT
DTSTART:20170326T030000
TZOFFSETFROM:+0100
TZOFFSETTO:+0200
TZNAME:CEST
END:DAYLIGHT
END:VTIMEZONE
END:VCALENDAR